{"text_format":"1","workbook":"xlsx","n_sheets":9,"sheets":["Бланки ГПП","мощностьРП7","мощность РП8","расчет 2013","расчет лето","лето 2013","зима 2013","расчет зима","Лист1"],"not_rendered":{"charts":0,"images":0,"macros":0,"external_links":0,"defined_names":2,"comments":0,"pivot_tables":0},"unopened":[],"bounds":{"document_bytes":16777216,"sheet_cells":100000,"rows_first":2000,"rows_last":500,"rows_between":2000,"halvings":0,"cell_chars":16384,"cell_head_chars":4096},"cells_cut":0,"cells_raw":0,"read":"whole","date_system":"1900"}

{"sheet":"Бланки ГПП","index":0,"n_rows":32,"n_cols":10,"rows_kept":32,"cut":false,"hidden":false,"merged":[]}
["Почасовые контрольные замеры эл.эн.( активной  )19.06.2013г."]
[]
["Время ","Ф-10-915",null,"Ф-10-951",null,"Ф-10-924",null,"Ф-10-933"]
["местное","активная","реактивная","активная","реактивная","активная","реактивная","активная","реактивная","реактивная"]
["00:00:00"]
["01:00:00"]
["02:00:00"]
["03:00:00"]
["04:00:00"]
["05:00:00"]
["06:00:00"]
["07:00:00"]
["08:00:00"]
["09:00:00"]
["10:00:00"]
["11:00:00"]
["12:00:00"]
["13:00:00"]
["14:00:00"]
["15:00:00"]
["16:00:00"]
["17:00:00"]
["18:00:00"]
["19:00:00"]
["20:00:00"]
["21:00:00"]
["22:00:00"]
["23:00:00"]
[1]
[1.1666666666666701]
["            Исполнители :"]
["                "]

{"sheet":"мощностьРП7","index":1,"n_rows":61,"n_cols":11,"rows_kept":61,"cut":false,"hidden":false,"merged":[]}
[null,"Архив средней мощности по каналам учета по РП- 7 на 19.06.2013г."]
["Время","ф.10-709           (ТП 55,56,57)","ф.10-714         (ТП 55,56,57)","ф.10-713 (ТП47)","ф.10-715            (ТП 51,52,53)","ф.10-718             (ТП 51,52,53)","ф.10-711 (ТП58)","ф.10-712 (ТП58)","ф.10-703 (ТП54)","ф.10-706(ТП54)","Итого расход по всем фидерам РП7"]
[]
["00:00:00",0,0,0,0,0,0,0,0,0,{"$f":"SUM(B4:J4)","v":0}]
["01:00:00",406.4,140.80000000000001,196.8,140.80000000000001,305.60000000000002,182.4,0,57.6,108.6,{"$f":"SUM(B5:J5)","v":1539}]
["02:00:00",310.39999999999998,112,186.4,112,252.8,164,0,43.2,93.6,1274.3999999999999]
["03:00:00",281.60000000000002,107.2,187.2,107.2,217.6,152,0,40.799999999999997,94.8,1188.4000000000001]
["04:00:00",278.39999999999998,105.6,182.4,105.6,209.6,153.6,0,41.4,90.6,1167.2]
["05:00:00",302.39999999999998,91.2,166.4,91.2,195.2,144,0,39.6,90.6,1120.5999999999999]
["06:00:00",321.60000000000002,97.6,148.80000000000001,97.6,220.8,152,0,22.2,97.2,1157.8000000000002]
["07:00:00",452.8,201.6,154.4,201.6,366.4,180.8,0,31.2,102,1690.8]
["08:00:00",542.4,206.4,166.4,206.4,393.6,220.8,0,61.2,129.6,1926.7999999999997]
["09:00:00",486.4,211.2,170.4,211.2,379.2,247.2,0,84.6,173.4,1963.6]
["10:00:00",518.4,222.4,165.6,222.4,384,256.8,0,78,186.6,2034.1999999999998]
["11:00:00",488,185.6,148,185.6,366.4,298.39999999999998,0,87,216,1975]
["12:00:00",521.6,182.4,155.19999999999999,182.4,379.2,292,0,83.4,228,2024.2000000000003]
["13:00:00",465.6,185.6,159.19999999999999,185.6,392,288,0,97.8,218.4,1992.2]
["14:00:00",456,169.6,165.6,169.6,356.8,291.2,0,76.8,204,1889.6000000000001]
["15:00:00",449.6,171.2,170.4,171.2,363.2,279.2,0,81,202.8,1888.6]
["16:00:00",486.4,168,145.6,168,372.8,288,0,76.2,192.6,1897.6]
["17:00:00",499.2,158.4,158.4,158.4,376,292,0,69.599999999999994,193.2,1905.2]
["18:00:00",531.20000000000005,166.4,167.2,166.4,411.2,303.2,0,72.599999999999994,192,2010.2]
["19:00:00",542.4,187.2,187.2,187.2,443.2,306.39999999999998,0,84.6,180,2118.1999999999998]
["20:00:00",604.79999999999995,195.2,208,195.2,486.4,312.8,0,81.599999999999994,165,2249]
["21:00:00",665.6,209.6,204,209.6,520,322.39999999999998,0,60,141,2332.1999999999998]
["22:00:00",699.2,241.6,216,241.6,539.20000000000005,312,0,78.599999999999994,132,2460.2000000000003]
["23:00:00",649.6,222.4,205.6,222.4,494.4,290.39999999999998,0,77.400000000000006,127.2,2289.4]
[1,555.20000000000005,185.6,174.4,185.6,385.6,244,0,66.599999999999994,110.4,1907.4]
["Итого",{"$f":"SUM(B4:B28)","v":11515.200000000003},4124.8,4189.5999999999995,4124.8,8811.1999999999989,5973.5999999999985,0,1592.9999999999995,3669.6,44001.799999999996]
["Средняя мощность",{"$f":"ROUND(B29/24,3)","v":479.8},{"$f":"ROUND(C29/24,3)","v":171.86699999999999},174.56700000000001,171.86699999999999,367.13299999999998,248.9,0,66.375,152.9,1833.4090000000001]
[]
[null,"Архив средней мощности по каналам учета по РП- 7 на 18.12.2013г."]
["Время","ф.10-709           (ТП 55,56,57)","ф.10-714         (ТП 55,56,57)","ф.10-713 (ТП47)","ф.10-715            (ТП 51,52,53)","ф.10-718             (ТП 51,52,53)","ф.10-711 (ТП58)","ф.10-712 (ТП58)","ф.10-703 (ТП54)","ф.10-706(ТП54)","Итого расход по всем фидерам РП7"]
[]
["00:00:00",null,null,null,null,null,null,null,null,null,{"$f":"SUM(B35:J35)","v":0}]
["01:00:00",403.2,136,167.2,419.2,80,154.4,0,42,109.8,{"$f":"SUM(B36:J36)","v":1511.8000000000002}]
["02:00:00",324.8,118.4,171.2,347.2,64,139.19999999999999,0,35.4,98.4,1298.6000000000004]
["03:00:00",294.39999999999998,112,172,324.8,57.6,139.19999999999999,0,34.200000000000003,94.8,1229]
["04:00:00",284.8,110.4,170.4,318.39999999999998,54.4,133.6,0,34.799999999999997,93,1199.8]
["05:00:00",297.60000000000002,110.4,170.4,331.2,54.4,130.4,0,33.6,97.8,1225.7999999999997]
["06:00:00",332.8,171.2,170.4,403.2,62.4,143.19999999999999,0,33.6,102.6,1419.3999999999999]
["07:00:00",473.6,211.2,168.8,521.6,121.6,156,0,40.799999999999997,104.4,1797.9999999999998]
["08:00:00",600,272,175.2,680,131.19999999999999,213.6,0,64.2,132,2268.1999999999998]
["09:00:00",620.79999999999995,262.39999999999998,200.8,643.20000000000005,110.4,246.4,0,85.2,186,2355.1999999999998]
["10:00:00",649.6,276.8,203.2,665.6,108.8,271.2,0,48,202.2,2425.4]
["11:00:00",641.6,272,193.6,646.4,115.2,293.60000000000002,0,56.4,241.2,2460]
["12:00:00",595.20000000000005,220.83,200,636.79999999999995,102.4,302.39999999999998,0,61.2,249.6,2368.4299999999998]
["13:00:00",552,224,188.8,632,108.8,302.39999999999998,0,76.2,242.4,2326.6]
["14:00:00",580.79999999999995,219.2,204.8,611.20000000000005,97.6,288.8,0,63.6,216.6,2282.6]
["15:00:00",558.4,180.8,206.4,608,96,304,0,67.2,213.6,2234.4]
["16:00:00",566.4,195.2,221.6,643.20000000000005,108.8,308,0,65.400000000000006,211.8,2320.4]
["17:00:00",632,230.4,211.2,768,137.6,305.60000000000002,0,70.8,217.2,2572.7999999999997]
["18:00:00",731.2,262.39999999999998,181.6,984,166.4,340.8,0,73.8,220.8,{"$f":"SUM(B53:J53)","v":2961.0000000000005}]
["19:00:00",830.4,275.2,175.2,1016,174.4,339.2,0,79.8,205.8,3096.0000000000005]
["20:00:00",854.4,270.39999999999998,160.80000000000001,998.4,184,350.4,0,81.599999999999994,183,3083]
["21:00:00",864,280,153.6,993.6,177.6,330.4,0,59.4,150.6,3009.2]
["22:00:00",793.6,267.2,137.6,888,160,286.39999999999998,0,63.6,138,2734.3999999999996]
["23:00:00",664,216,130.4,704,132.80000000000001,251.2,0,53.4,130.19999999999999,2282]
[1,491.2,179.2,126.4,537.6,99.2,216,0,48,111.6,1809.2]
["Итого",{"$f":"SUM(B35:B59)","v":13636.800000000001},5073.6299999999992,4261.5999999999995,15321.6,2705.6,5946.3999999999987,0,1372.2,3953.4,52271.229999999996]
["Средняя мощность",{"$f":"ROUND(B60/24,3)","v":568.20000000000005},211.40100000000001,177.56700000000001,638.4,112.733,247.767,0,57.174999999999997,164.72499999999999,2177.9680000000003]

{"sheet":"мощность РП8","index":2,"n_rows":63,"n_cols":12,"rows_kept":63,"cut":false,"hidden":false,"merged":[]}
[null,"Архив средней мощности по каналам учета РП - 8   на 19.12.2013г."]
["Время","ф.10-807(ТП 81)","ф.10-814(ТП 83)","ф.10-811 (стой.мех.          СФ Проспект))","ф.10-819 (стой.мех.          СФ Проспект))","ф.10-820 (стой.мех.          СФ Проспект))","ф.10-815           Вектор-Фарм","ф.10-822           Вектор-Фарм","ф.10-817      Вектор-Фарм","ф.10-824      Вектор-Фарм","Итого расход по всем фидерам РП8"]
[]
["00:00:00",null,null,null,null,null,null,null,null,null,{"$f":"SUM(B4:J4)","v":0}]
["01:00:00",596,0,340.8,27,132,0,4.8,4,43.2,1147.8]
["02:00:00",495,0,344,21,132.25,0,4.8,4,41.6,1042.6499999999999]
["03:00:00",442,0,344,20,132,0,4,4.8,41.6,988.4]
["04:00:00",434,0,345.6,17,131.75,0,4.8,4,42.4,979.55]
["05:00:00",430,0,344,20,131.75,0,4,4,40.799999999999997,974.55]
["06:00:00",446,0,344,20.5,131.5,0,4.8,4,42.4,993.19999999999993]
["07:00:00",570,0,345.6,27,133,0,4.8,4,42.4,1126.8]
["08:00:00",782,0,380.8,45.5,134.5,0,4,4.8,45.6,1397.1999999999998]
["09:00:00",761,0,408,40,151.25,0,15.2,19.2,68.8,1463.45]
["10:00:00",725,0,420.8,39,113.25,0,4.8,16.8,57.6,1377.2499999999998]
["11:00:00",868,0,440,35.5,86,0,4,16,56,1505.5]
["12:00:00",837,0,372.8,34.5,106.25,0,48,16.8,72.8,1488.1499999999999]
["13:00:00",830,0,310.39999999999998,34,100,0,77.599999999999994,16.8,80.8,1449.6]
["14:00:00",800,0,340.8,33,106.75,0,168,25.6,69.599999999999994,1543.7499999999998]
["15:00:00",755,0,368,30.5,107,0,4.8,4,51.2,1320.5]
["16:00:00",801,0,345.6,31.5,106.75,0,6.4,6.4,60,1357.65]
["17:00:00",851,0,331.2,35.5,107,0,4.8,4.8,48,1382.3]
["18:00:00",1000,0,368,48.5,118.5,0,4.8,4.8,46.4,1591]
["19:00:00",1096,0,395.2,52,113.25,0,4,5.6,44,1710.05]
["20:00:00",1170,0,384,53.5,94.5,0,4.8,4,44.8,1755.6]
["21:00:00",1190,0,347.2,62.5,127,0,4.8,4.8,49.6,1785.8999999999999]
["22:00:00",1143,0,340.8,62,110.75,0,4.8,4.8,49.6,1715.7499999999998]
["23:00:00",991,0,321.60000000000002,51.5,108,0,4.8,4.8,48.8,1530.4999999999998]
[1,780,0,323.2,38.5,108.75,0,4.8,4,47.2,1306.45]
["Итого",{"$f":"SUM(B4:B28)","v":18793},0,8606.4000000000015,{"$f":"SUM(E4:E28)","v":880},{"$f":"SUM(F4:F28)","v":2823.75},0,402.40000000000009,192.80000000000004,{"$f":"SUM(J4:J28)","v":1235.1999999999998},32933.550000000003,{"$f":"K29+мощностьРП7!K60","v":85204.78}]
["Средняя мощность ",{"$f":"ROUND(B29/24,3)","v":783.04200000000003},0,358.6,{"$f":"ROUND(E29/24,3)","v":36.667000000000002},{"$f":"ROUND(F29/24,3)","v":117.65600000000001},{"$f":"ROUND(G29/24,3)","v":0},16.766999999999999,8.0329999999999995,51.466999999999999,1372.232,{"$f":"K30+мощностьРП7!K61","v":3550.2000000000003}]
[]
["Итого средняя мощность по РП7 и РП8 в зимний период",null,null,null,null,null,null,null,null,null,{"$f":"мощностьРП7!K61+'мощность РП8'!K30","v":3550.2000000000003},{"$f":"L29/24","v":3550.1991666666668}]
[]
[null,"Архив средней мощности по каналам учета РП - 8   на 19.06.2013г."]
["Время","ф.10-807(ТП 81)","ф.10-814(ТП 83)","ф.10-811 (стой.мех.          СФ Проспект))","ф.10-815           Вектор-Фарм","ф.10-822           Вектор-Фарм","ф.10-817      Вектор-Фарм","ф.10-824      Вектор-Фарм","ф.10-819   ТП 88","Итого расход по всем фидерам РП8"]
[]
["00:00:00",0,null,0,0,0,0,0,0,{"$f":"SUM(B37:I37)","v":0}]
["01:00:00",590,null,68.8,0,0.8,75.2,55.2,74,864]
["02:00:00",429,null,70.400000000000006,0,0.8,73.599999999999994,52.8,51,677.59999999999991]
["03:00:00",367,null,70.400000000000006,0,0.8,72.8,53.6,34,598.6]
["04:00:00",349,null,69.599999999999994,0,1.6,72.8,52,25,570]
["05:00:00",326,null,67.2,0,0.8,72,48.8,22,536.79999999999995]
["06:00:00",324,null,63.6,0,0.8,71.2,44,25,528.6]
["07:00:00",481,null,62,0,0.8,69.599999999999994,44,36,693.4]
["08:00:00",664,null,91.6,0,0.8,70.400000000000006,44.8,64,935.59999999999991]
["09:00:00",659,null,127.6,0,0,71.2,84.8,57,999.6]
["10:00:00",686,null,123.6,0,0.8,72,82.4,66,1030.8]
["11:00:00",704,null,112.8,0,18.399999999999999,85.6,72.8,59,1052.5999999999999]
["12:00:00",704,null,118.8,0,20.8,86.4,72,78,1080]
["13:00:00",671,null,64.400000000000006,0,0.8,69.599999999999994,57.6,73,936.4]
["14:00:00",645,null,97.6,0,0,83.2,76.8,64,966.6]
["15:00:00",618,null,100,0,0.8,55.2,63.2,56,893.2]
["16:00:00",611,null,94,0,0,16.8,52,52,825.8]
["17:00:00",630,null,74.400000000000006,0,0.8,4,25.6,52,786.8]
["18:00:00",676,null,75.599999999999994,0,0,4,18.399999999999999,66,840]
["19:00:00",711,null,69.2,0,0.8,3.2,20,48,852.2]
["20:00:00",834,null,70,0,0.8,3.2,36.799999999999997,65,1009.8]
["21:00:00",874,null,73.599999999999994,0,0.8,3.2,32,64,1047.5999999999999]
["22:00:00",993,null,71.2,0,0.8,3.2,25.6,85,1178.8]
["23:00:00",958,null,63.6,0,0.8,4.8,27.2,90,1144.4000000000001]
[1,774,null,69.599999999999994,0,0.8,4.8,28,72,949.19999999999993]
["Итого",{"$f":"SUM(B37:B61)","v":15278},0,1969.6,0,54.399999999999977,1148.0000000000002,1170.3999999999999,1378,{"$f":"SUM(B62:H62)","v":19620.400000000001}]
["Средняя мощность ",{"$f":"ROUND(B62/24,3)","v":636.58299999999997},0,82.066999999999993,0,2.2669999999999999,47.832999999999998,48.767000000000003,null,{"$f":"SUM(B63:H63)","v":817.51700000000005}]

{"sheet":"расчет 2013","index":3,"n_rows":37,"n_cols":5,"rows_kept":37,"cut":false,"hidden":false,"merged":[]}
["Расчет расхода   активной электроэнергии на 18.12.2013"]
["Время","Расход (Кольцово)","Расход  (Кольцово)","Сумма  всех фидеров","Общая нагрузка по всем фидерам "]
["местное","  Сумма фидеров 924+ф.933        (РП-7)","Сумма фидеров          915 и 951     (РП-8)","расход за сутки","расход лимитируемый  ( А )"]
["00:00:00",{"$f":"'зима 2013'!J5+'зима 2013'!M5","v":0},{"$f":"'зима 2013'!D5+'зима 2013'!G5","v":0},{"$f":"B4+C4","v":0},{"$f":"D4","v":0}]
["01:00:00",{"$f":"'зима 2013'!J6+'зима 2013'!M6","v":1639.9999999775901},{"$f":"'зима 2013'!D6+'зима 2013'!G6","v":1020.0000000004366},{"$f":"B5+C5","v":2659.9999999780266},{"$f":"D5","v":2659.9999999780266}]
["02:00:00",{"$f":"'зима 2013'!J7+'зима 2013'!M7","v":1320.0000000142609},{"$f":"'зима 2013'!D7+'зима 2013'!G7","v":1080.000000000382},2400.0000000146429,2400.0000000146429]
["03:00:00",{"$f":"'зима 2013'!J8+'зима 2013'!M8","v":1240.0000000125146},{"$f":"'зима 2013'!D8+'зима 2013'!G8","v":1020.0000000011187},2260.0000000136333,2260.0000000136333]
["04:00:00",{"$f":"'зима 2013'!J9+'зима 2013'!M9","v":1519.9999999967986},{"$f":"'зима 2013'!D9+'зима 2013'!G9","v":1200.0000000002728},2719.9999999970714,2719.9999999970714]
["05:00:00",{"$f":"'зима 2013'!J10+'зима 2013'!M10","v":1319.9999999706051},{"$f":"'зима 2013'!D10+'зима 2013'!G10","v":899.99999999918145},2219.9999999697866,2219.9999999697866]
["06:00:00",{"$f":"'зима 2013'!J11+'зима 2013'!M11","v":1320.0000000215368},{"$f":"'зима 2013'!D11+'зима 2013'!G11","v":1080.0000000010641},2400.0000000226009,2400.0000000226009]
["07:00:00",{"$f":"'зима 2013'!J12+'зима 2013'!M12","v":1759.9999999729334},{"$f":"'зима 2013'!D12+'зима 2013'!G12","v":1139.9999999989632},2899.9999999718966,2899.9999999718966]
["08:00:00",{"$f":"'зима 2013'!J13+'зима 2013'!M13","v":2280.0000000279397},{"$f":"'зима 2013'!D13+'зима 2013'!G13","v":1440.0000000000546},3720.0000000279942,3720.0000000279942]
["09:00:00",{"$f":"'зима 2013'!J14+'зима 2013'!M14","v":2199.9999999825377},{"$f":"'зима 2013'!D14+'зима 2013'!G14","v":1380.0000000001091},3579.9999999826468,3579.9999999826468]
["10:00:00",{"$f":"'зима 2013'!J15+'зима 2013'!M15","v":2639.999999984866},{"$f":"'зима 2013'!D15+'зима 2013'!G15","v":1560.0000000006276},4199.9999999854936,4199.9999999854936]
["11:00:00",{"$f":"'зима 2013'!J16+'зима 2013'!M16","v":2480.0000000104774},{"$f":"'зима 2013'!D16+'зима 2013'!G16","v":1439.9999999986903},3920.0000000091677,3920.0000000091677]
["12:00:00",{"$f":"'зима 2013'!J17+'зима 2013'!M17","v":3480.0000000250293},{"$f":"'зима 2013'!D17+'зима 2013'!G17","v":1679.9999999998363},5160.0000000248656,5160.0000000248656]
["13:00:00",{"$f":"'зима 2013'!J18+'зима 2013'!M18","v":1479.9999999886495},{"$f":"'зима 2013'!D18+'зима 2013'!G18","v":1440.0000000014188},2919.9999999900683,2919.9999999900683]
["14:00:00",{"$f":"'зима 2013'!J19+'зима 2013'!M19","v":2159.9999999816646},{"$f":"'зима 2013'!D19+'зима 2013'!G19","v":1379.999999999427},3539.9999999810916,3539.9999999810916]
["15:00:00",{"$f":"'зима 2013'!J20+'зима 2013'!M20","v":2640.0000000285218},{"$f":"'зима 2013'!D20+'зима 2013'!G20","v":1499.9999999986358},4140.0000000271575,4140.0000000271575]
["16:00:00",{"$f":"'зима 2013'!J21+'зима 2013'!M21","v":2159.9999999889405},{"$f":"'зима 2013'!D21+'зима 2013'!G21","v":1320.0000000001637},3479.9999999891043,3479.9999999891043]
["17:00:00",{"$f":"'зима 2013'!J22+'зима 2013'!M22","v":2279.999999977008},{"$f":"'зима 2013'!D22+'зима 2013'!G22","v":1260.0000000022646},3539.9999999792726,3539.9999999792726]
["18:00:00",{"$f":"'зима 2013'!J23+'зима 2013'!M23","v":3240.0000000416185},{"$f":"'зима 2013'!D23+'зима 2013'!G23","v":1679.9999999998363},4920.0000000414548,4920.0000000414548]
["19:00:00",{"$f":"'зима 2013'!J24+'зима 2013'!M24","v":3679.9999999930151},{"$f":"'зима 2013'!D24+'зима 2013'!G24","v":2159.9999999993997},5839.9999999924148,5839.9999999924148]
["20:00:00",{"$f":"'зима 2013'!J25+'зима 2013'!M25","v":2719.9999999938882},{"$f":"'зима 2013'!D25+'зима 2013'!G25","v":1499.9999999986358},4219.999999992524,4219.999999992524]
["21:00:00",{"$f":"'зима 2013'!J26+'зима 2013'!M26","v":3159.9999999889405},{"$f":"'зима 2013'!D26+'зима 2013'!G26","v":1860.0000000017189},5019.9999999906595,5019.9999999906595]
["22:00:00",{"$f":"'зима 2013'!J27+'зима 2013'!M27","v":2480.0000000104774},{"$f":"'зима 2013'!D27+'зима 2013'!G27","v":1559.9999999999454},4040.0000000104228,4040.0000000104228]
["23:00:00",{"$f":"'зима 2013'!J28+'зима 2013'!M28","v":2480.0000000032014},{"$f":"'зима 2013'!D28+'зима 2013'!G28","v":1559.9999999985812},4040.0000000017826,4040.0000000017826]
[1,{"$f":"'зима 2013'!J29+'зима 2013'!M29","v":3279.999999977008},{"$f":"'зима 2013'!D29+'зима 2013'!G29","v":1260.0000000015825},4539.9999999785905,4539.9999999785905]
["Итого",{"$f":"SUM(B4:B28)","v":54959.999999970023},{"$f":"SUM(C4:C28)","v":33420.00000000235},{"$f":"SUM(D4:D28)","v":88379.999999972366},{"$f":"SUM(E4:E28)","v":88379.999999972366}]
[]
["1 группа   -р.п.Кольцово"]
["2 группа - промзона "]
["Лимитируемое потребление: не выделяется . Учет не принят"]
["КС = 19702340 + ( 2 х А лимит.расх. ) =",null,null,{"$f":"ROUND(19702340+2*H29,0)","v":19702340}]
[]
[]
["    Директор МУЭП \"Промтехэнерго\"                                          Н.И.Скляревский"]

{"sheet":"расчет лето","index":4,"n_rows":42,"n_cols":7,"rows_kept":42,"cut":false,"hidden":false,"merged":[[1,3,1,4]]}
["Расчет расхода   активной электроэнергии на 19.06.2013"]
["Время","Расход","Расход","1 гр сумма",null,"Сумма","Общая нагрузка по всем фидерам "]
["местное","1 гр.  Сумма ф.924+ф.933(РП-7)","Сумма фидеров 915 и 951 (РП-8)","население на РП3, РП6","ф,924 +ф.933+нас.-сторонники в нас.","Сторонние потребители в населении (от ф.924 и ф.933)","расход ( А )"]
["00:00:00",{"$f":"'лето 2013'!E5+'лето 2013'!H5","v":0},{"$f":"'лето 2013'!K5+'лето 2013'!N5","v":0},null,null,null,{"$f":"B4+C4","v":0}]
["01:00:00",{"$f":"'лето 2013'!E6+'лето 2013'!H6","v":1759.9999999947613},{"$f":"'лето 2013'!K6+'лето 2013'!N6","v":840.00000000060027},null,null,null,{"$f":"B5+C5","v":2599.9999999953616}]
["02:00:00",{"$f":"'лето 2013'!E7+'лето 2013'!H7","v":1440.0000000168802},{"$f":"'лето 2013'!K7+'лето 2013'!N7","v":959.99999999912689},null,null,null,2400.0000000160071]
["03:00:00",{"$f":"'лето 2013'!E8+'лето 2013'!H8","v":1639.999999992142},{"$f":"'лето 2013'!K8+'лето 2013'!N8","v":540.00000000087311},null,null,null,2179.9999999930151]
["04:00:00",{"$f":"'лето 2013'!E9+'лето 2013'!H9","v":1320.0000000069849},{"$f":"'лето 2013'!K9+'лето 2013'!N9","v":659.99999999939973},null,null,null,1980.0000000063847]
["05:00:00",{"$f":"'лето 2013'!E10+'лето 2013'!H10","v":1039.9999999935972},{"$f":"'лето 2013'!K10+'лето 2013'!N10","v":419.99999999961801},null,null,null,1459.9999999932152]
["06:00:00",{"$f":"'лето 2013'!E11+'лето 2013'!H11","v":1360.0000000005821},{"$f":"'лето 2013'!K11+'лето 2013'!N11","v":660.00000000076398},null,null,null,2020.0000000013461]
["07:00:00",{"$f":"'лето 2013'!E12+'лето 2013'!H12","v":1040.0000000008731},{"$f":"'лето 2013'!K12+'лето 2013'!N12","v":359.99999999967258},null,null,null,1400.0000000005457]
["08:00:00",{"$f":"'лето 2013'!E13+'лето 2013'!H13","v":1600.0000000058208},{"$f":"'лето 2013'!K13+'лето 2013'!N13","v":780.00000000065484},null,null,null,2380.0000000064756]
["09:00:00",{"$f":"'лето 2013'!E14+'лето 2013'!H14","v":2399.9999999941792},{"$f":"'лето 2013'!K14+'лето 2013'!N14","v":1259.999999998854},null,null,null,3659.9999999930333]
["10:00:00",{"$f":"'лето 2013'!E15+'лето 2013'!H15","v":2039.9999999935972},{"$f":"'лето 2013'!K15+'лето 2013'!N15","v":1080.0000000010641},null,null,null,3119.9999999946613]
["11:00:00",{"$f":"'лето 2013'!E16+'лето 2013'!H16","v":2080.0000000090222},{"$f":"'лето 2013'!K16+'лето 2013'!N16","v":1020.0000000004366},null,null,null,3100.0000000094587]
["12:00:00",{"$f":"'лето 2013'!E17+'лето 2013'!H17","v":2119.9999999953434},{"$f":"'лето 2013'!K17+'лето 2013'!N17","v":1079.9999999990177},null,null,null,3199.9999999943611]
["13:00:00",{"$f":"'лето 2013'!E18+'лето 2013'!H18","v":1719.9999999938882},{"$f":"'лето 2013'!K18+'лето 2013'!N18","v":780.00000000065484},null,null,null,2499.999999994543]
["14:00:00",{"$f":"'лето 2013'!E19+'лето 2013'!H19","v":2119.9999999953434},{"$f":"'лето 2013'!K19+'лето 2013'!N19","v":1079.9999999990177},null,null,null,3199.9999999943611]
["15:00:00",{"$f":"'лето 2013'!E20+'лето 2013'!H20","v":1920.0000000055297},{"$f":"'лето 2013'!K20+'лето 2013'!N20","v":900.0000000005457},null,null,null,2820.0000000060754]
["16:00:00",{"$f":"'лето 2013'!E21+'лето 2013'!H21","v":2640.0000000066939},{"$f":"'лето 2013'!K21+'лето 2013'!N21","v":1200.0000000002728},null,null,null,3840.0000000069667]
["17:00:00",{"$f":"'лето 2013'!E22+'лето 2013'!H22","v":1559.9999999903957},{"$f":"'лето 2013'!K22+'лето 2013'!N22","v":539.99999999950887},null,null,null,2099.9999999899046]
["18:00:00",{"$f":"'лето 2013'!E23+'лето 2013'!H23","v":2080.0000000090222},{"$f":"'лето 2013'!K23+'лето 2013'!N23","v":780.00000000065484},null,null,null,2860.000000009677]
["19:00:00",{"$f":"'лето 2013'!E24+'лето 2013'!H24","v":2039.9999999935972},{"$f":"'лето 2013'!K24+'лето 2013'!N24","v":779.99999999929059},null,null,null,2819.9999999928878]
["20:00:00",{"$f":"'лето 2013'!E25+'лето 2013'!H25","v":2600.0000000058208},{"$f":"'лето 2013'!K25+'лето 2013'!N25","v":1260.0000000002183},null,null,null,3860.000000006039]
["21:00:00",{"$f":"'лето 2013'!E26+'лето 2013'!H26","v":2359.9999999933061},{"$f":"'лето 2013'!K26+'лето 2013'!N26","v":779.99999999929059},null,null,null,3139.9999999925967]
["22:00:00",{"$f":"'лето 2013'!E27+'лето 2013'!H27","v":2240.0000000052387},{"$f":"'лето 2013'!K27+'лето 2013'!N27","v":1080.000000000382},null,null,null,3320.0000000056207]
["23:00:00",{"$f":"'лето 2013'!E28+'лето 2013'!H28","v":2559.9999999976717},{"$f":"'лето 2013'!K28+'лето 2013'!N28","v":1140.0000000003274},null,null,null,3699.9999999979991]
[1,{"$f":"'лето 2013'!E29+'лето 2013'!H29","v":1639.9999999994179},{"$f":"'лето 2013'!K29+'лето 2013'!N29","v":959.99999999912689},null,null,null,2599.9999999985448]
["Итого",{"$f":"SUM(B5:B28)","v":45319.999999999709},{"$f":"SUM(C5:C28)","v":20939.999999999374},null,null,null,66259.999999999083]
[null,null,null,null,null,null,{"$f":"G29/24/1000","v":2.7608333333332955}]
["1 группа   -р.п.Кольцово"]
["2 группа - промзона "]
["Лимитируемое потребление: не выделяется . Учет не принят"]
["КС = 19702340 + ( 2 х А лимит.расх. ) ="]
[]
[]
["    Главный инженер МУЭП \"Промтехэнерго\"                                         А.А.Попельницкий"]
[]
[]
[]
["            Исп.Мищерякова О.Э."]
[null,"тел.306-38-50"]

{"sheet":"лето 2013","index":5,"n_rows":64,"n_cols":17,"rows_kept":64,"cut":false,"hidden":false,"merged":[]}
[null,null,"                                                                 Почасовые контрольные замеры эл.эн.( активной  )19.06.2013г."]
[]
["Время ",null," ф.10-924 ","Ктр.",4000," ф.10-933","Ктр.",4000," ф.10-915","Ктр.",6000," ф.10-951","Ктр.",6000,"Суммарная мощность                      по ф.10-915, 924, 933,951"]
["местное",null,"показания","разность","расход","показания","разность","расход","показания","разность","расход","показания","разность","расход"]
["00:00:00",null,10496.52,null,null,20447.939999999999,null,null,1740.84,null,null,550.47,null,null,0]
["01:00:00",null,"010496,64",{"$f":"C6-C5","v":0.11999999999898137},{"$f":"D6*4000","v":479.99999999592546},"020448,26",{"$f":"F6-F5","v":0.31999999999970896},{"$f":"G6*4000","v":1279.9999999988358},1740.97,{"$f":"I6-I5","v":0.13000000000010914},{"$f":"J6*6000","v":780.00000000065484},"00550,48",{"$f":"L6-L5","v":9.9999999999909051E-3},{"$f":"M6*6000","v":59.99999999994543}]
["02:00:00",null,"010496,77",{"$f":"C7-C6","v":0.13000000000101863},{"$f":"D7*4000","v":520.00000000407454},"020448,49",{"$f":"F7-F6","v":0.23000000000320142},{"$f":"G7*4000","v":920.00000001280569},1741.12,{"$f":"I7-I6","v":0.14999999999986358},{"$f":"J7*6000","v":899.99999999918145},"00550,49",{"$f":"L7-L6","v":9.9999999999909051E-3},{"$f":"M7*6000","v":59.99999999994543},{"$f":"E7+H7+K7+N7","v":2400.0000000160071}]
["03:00:00",null,"010496,85",{"$f":"C8-C7","v":7.999999999992724E-2},{"$f":"D8*4000","v":319.99999999970896},"020448,82",{"$f":"F8-F7","v":0.32999999999810825},{"$f":"G8*4000","v":1319.999999992433},1741.2,{"$f":"I8-I7","v":8.0000000000154614E-2},{"$f":"J8*6000","v":480.00000000092768},"00550,50",{"$f":"L8-L7","v":9.9999999999909051E-3},{"$f":"M8*6000","v":59.99999999994543},{"$f":"E8+H8+K8+N8","v":2179.9999999930151}]
["04:00:00",null,"010497,01",0.15999999999985448,639.99999999941792,"020448,99",0.17000000000189175,680.000000007567,1741.3,9.9999999999909051E-2,{"$f":"J9*6000","v":599.9999999994543},"00550,51",9.9999999999909051E-3,{"$f":"M9*6000","v":59.99999999994543},1980.0000000063847]
["05:00:00",null,"010497,01",0,0,"020449,25",0.25999999999839929,1039.9999999935972,1741.36,5.999999999994543E-2,359.99999999967258,"00550,52",9.9999999999909051E-3,59.99999999994543,1459.9999999932152]
["06:00:00",null,"010497,10",9.0000000000145519E-2,360.00000000058208,"020449,50",0.25,1000,1741.46,0.10000000000013642,600.00000000081855,"00550,53",9.9999999999909051E-3,59.99999999994543,2020.0000000013461]
["07:00:00",null,"010497,18",7.999999999992724E-2,319.99999999970896,"020449,68",0.18000000000029104,720.00000000116415,1741.52,5.999999999994543E-2,359.99999999967258,"00550,53",0,0,1400.0000000005457]
["08:00:00",null,"010497,29",0.11000000000058208,440.00000000232831,"020449,97",0.29000000000087311,1160.0000000034925,1741.64,0.12000000000011823,720.00000000070941,"00550,54",9.9999999999909051E-3,59.99999999994543,2380.0000000064756]
["09:00:00",null,"010497,46",0.16999999999825377,679.99999999301508,"020450,40",0.43000000000029104,1720.0000000011642,1741.83,0.1899999999998272,1139.9999999989632,"00550,56",1.999999999998181E-2,119.99999999989086,3659.9999999930333]
["10:00:00",null,"010497,61",0.15000000000145519,600.00000000582077,"020450,76",0.3599999999969441,1439.9999999877764,1742,0.17000000000007276,1020.0000000004366,"00550,57",1.0000000000104592E-2,60.000000000627551,3119.9999999946613]
["11:00:00",null,"010497,76",0.1499999999996362,599.99999999854481,"020451,13",0.37000000000261934,1480.0000000104774,1742.15,0.15000000000009095,900.0000000005457,"00550,59",1.999999999998181E-2,119.99999999989086,3100.0000000094587]
["12:00:00",null,"010497,92",0.15999999999985448,639.99999999941792,"020451,50",0.36999999999898137,1479.9999999959255,1742.32,0.16999999999984539,1019.9999999990723,"00550,60",9.9999999999909051E-3,59.99999999994543,3199.9999999943611]
["13:00:00",null,"010498,05",0.12999999999919964,519.99999999679858,"020451,80",0.2999999999992724,1199.9999999970896,1742.44,0.12000000000011823,720.00000000070941,"00550,61",9.9999999999909051E-3,59.99999999994543,2499.999999994543]
["14:00:00",null,"010498,21",0.15999999999985448,639.99999999941792,"020452,17",0.36999999999898137,1479.9999999959255,1742.6,0.15999999999985448,959.99999999912689,"00550,63",1.999999999998181E-2,119.99999999989086,3199.9999999943611]
["15:00:00",null,"010498,35",0.14000000000123691,560.00000000494765,"020452,51",0.34000000000014552,1360.0000000005821,1742.74,0.14000000000010004,840.00000000060027,"00550,64",9.9999999999909051E-3,59.99999999994543,2820.0000000060754]
["16:00:00",null,"010498,54",0.19000000000050932,760.00000000203727,"020452,98",0.47000000000116415,1880.0000000046566,1742.93,0.19000000000005457,1140.0000000003274,"00550,65",9.9999999999909051E-3,59.99999999994543,3840.0000000069667]
["17:00:00",null,"010498,65",0.10999999999876309,439.99999999505235,"020453,26",0.27999999999883585,1119.9999999953434,1743.02,8.9999999999918145E-2,539.99999999950887,"00550,65",0,0,2099.9999999899046]
["18:00:00",null,"010498,79",0.14000000000123691,560.00000000494765,"020453,64",0.38000000000101863,1520.0000000040745,1743.15,0.13000000000010914,780.00000000065484,"00550,65",0,0,2860.000000009677]
["19:00:00",null,"010499,14",0.34999999999854481,1399.9999999941792,"020453,80",0.15999999999985448,639.99999999941792,1743.27,0.11999999999989086,719.99999999934516,"00550,66",9.9999999999909051E-3,59.99999999994543,2819.9999999928878]
["20:00:00",null,"010499,79",0.65000000000145519,2600.0000000058208,"020453,80",0,0,1743.47,0.20000000000004547,1200.0000000002728,"00550,67",9.9999999999909051E-3,59.99999999994543,3860.000000006039]
["21:00:00",null,"010500,38",0.58999999999832653,2359.9999999933061,"020453,80",0,0,1743.6,0.12999999999988177,779.99999999929059,"00550,67",0,0,3139.9999999925967]
["22:00:00",null,"010500,94",0.56000000000130967,2240.0000000052387,"020453,80",0,0,1743.78,0.18000000000006366,1080.000000000382,"00550,67",0,0,3320.0000000056207]
["23:00:00",null,"010501,58",0.63999999999941792,2559.9999999976717,"020453,80",0,0,1743.96,0.18000000000006366,1080.000000000382,"00550,68",9.9999999999909051E-3,59.99999999994543,3699.9999999979991]
[1,null,"010501,99",0.40999999999985448,1639.9999999994179,"020453,80",0,0,1744.12,0.15999999999985448,959.99999999912689,"00550,68",0,0,2599.9999999985448]
["Итого",null,null,null,{"$f":"SUM(E6:E29)","v":21879.999999997381},null,null,{"$f":"SUM(H6:H29)","v":23440.000000002328},null,null,{"$f":"SUM(K6:K29)","v":19679.999999999836},null,null,{"$f":"SUM(N6:N29)","v":1259.9999999995362},66259.999999999083]
["Средняя мощность по фидерам в кВт",null,null,null,null,null,null,null,null,null,null,null,null,null,{"$f":"O30/24/1000","v":2.7608333333332955}]
[]
[]
[]
[]
[]
[]
[]
[]
[]
[]
[]
[]
[]
[]
[]
[]
[]
[]
[]
[]
[]
[]
[]
[]
[]
[]
[]
[]
[]
[]
[]
[]
[null,null,null,null,null,null,null,null,null,null,null,null,null,null,null,null,",,,,,,,,,,,,,,,,,,,,,,,,,,,,,,,,,,,,,,,,,,,,,,,,,,,,,,,,,,,,,,,,,,,,,,,,,,,,,,,,,,,,,,,,,,,,,,,,,,,,,,,,,,,,,,,"]

{"sheet":"зима 2013","index":6,"n_rows":33,"n_cols":14,"rows_kept":33,"cut":false,"hidden":false,"merged":[]}
["Почасовые контрольные замеры эл.эн.( активной  )18.12.2013г."]
[]
["Время ","Ф-10-915","Ктр.",6000,"Ф-10-951","Ктр.",6000,"Ф-10-924","Ктр.",4000,"Ф-10-933","Ктр.",12000,"Общая нагрузка по всем фидерам "]
["местное","показание","разность","расход","показание","разность","расход","показание","разность","расход","показание","разность","расход"]
["00:00:00","002323,45",null,{"$f":"+G5","v":0},"000707,01",null,{"$f":"F5*'зима 2013'!G11","v":0},"011355,61",null,{"$f":"I5*4000","v":0},"020905,38",null,{"$f":"L5*4000","v":0},{"$f":"M5+J5+G5+D5","v":0}]
["01:00:00","002323,60",{"$f":"B6-B5","v":0.15000000000009095},{"$f":"C6*6000","v":900.0000000005457},"000707,03",{"$f":"E6-E5","v":1.999999999998181E-2},{"$f":"F6*6000","v":119.99999999989086},"011355,78",{"$f":"H6-H5","v":0.17000000000007276},{"$f":"I6*4000","v":680.00000000029104},"020905,46",{"$f":"K6-K5","v":7.9999999998108251E-2},{"$f":"L6*12000","v":959.99999997729901},{"$f":"M6+J6+G6+D6","v":2659.9999999780266}]
["02:00:00","002323,75",{"$f":"B7-B6","v":0.15000000000009095},{"$f":"C7*6000","v":900.0000000005457},"000707,06",{"$f":"E7-E6","v":2.9999999999972715E-2},{"$f":"F7*6000","v":179.99999999983629},"011355,93",{"$f":"H7-H6","v":0.1499999999996362},{"$f":"I7*4000","v":599.99999999854481},"020905,52",{"$f":"K7-K6","v":6.0000000001309672E-2},{"$f":"L7*12000","v":720.00000001571607},2400.0000000146429]
["03:00:00","002323,88",0.13000000000010914,780.00000000065484,"000707,10",4.0000000000077307E-2,240.00000000046384,"011356,06",0.12999999999919964,519.99999999679858,"020905,58",6.0000000001309672E-2,720.00000001571607,2260.0000000136333]
["04:00:00","002324,05",0.17000000000007276,1020.0000000004366,"000707,13",2.9999999999972715E-2,179.99999999983629,"011356,23",0.17000000000007276,680.00000000029104,"020905,65",6.9999999999708962E-2,839.99999999650754,2719.9999999970714]
["05:00:00","002324,17",0.11999999999989086,719.99999999934516,"000707,16",2.9999999999972715E-2,179.99999999983629,"011356,38",0.1499999999996362,599.99999999854481,"020905,71",5.9999999997671694E-2,719.99999997206032,2219.9999999697866]
["06:00:00","002324,32",0.15000000000009095,900.0000000005457,"000707,19",3.0000000000086402E-2,180.00000000051841,"011356,53",0.15000000000145519,600.00000000582077,"020905,77",6.0000000001309672E-2,720.00000001571607,2400.0000000226009]
["07:00:00","002324,48",0.15999999999985448,959.99999999912689,"000707,22",2.9999999999972715E-2,179.99999999983629,"011356,73",0.19999999999890861,799.99999999563443,"020905,85",7.9999999998108251E-2,959.99999997729901,2899.9999999718966]
["08:00:00","002324,69",0.21000000000003638,1260.0000000002183,"000707,25",2.9999999999972715E-2,179.99999999983629,"011357,00",0.27000000000043656,1080.0000000017462,"020905,95",0.10000000000218279,1200.0000000261934,3720.0000000279942]
["09:00:00","002324,88",0.19000000000005457,1140.0000000003274,"000707,29",3.999999999996362E-2,239.99999999978172,"011357,25",0.25,1000,"020906,05",9.9999999998544808E-2,1199.9999999825377,3579.9999999826468]
["10:00:00","002325,11",0.23000000000001819,1380.0000000001091,"000707,32",3.0000000000086402E-2,180.00000000051841,"011357,55",0.2999999999992724,1199.9999999970896,"020906,17",0.11999999999898137,1439.9999999877764,4199.9999999854936]
["11:00:00","002325,33",0.21999999999979991,1319.9999999987995,"000707,34",1.999999999998181E-2,119.99999999989086,"011357,84",0.29000000000087311,1160.0000000034925,"020906,28",0.11000000000058208,1320.0000000069849,3920.0000000091677]
["12:00:00","002325,56",0.23000000000001819,1380.0000000001091,"000707,39",4.9999999999954525E-2,299.99999999972715,"011358,14",0.2999999999992724,1199.9999999970896,"020906,47",0.19000000000232831,2280.0000000279397,5160.0000000248656]
["13:00:00","002325,76",0.20000000000027285,1200.0000000016371,"000707,43",3.999999999996362E-2,239.99999999978172,"011358,42",{"$f":"H18-H17","v":0.28000000000065484},1120.0000000026193,"020906,50",2.9999999998835847E-2,359.99999998603016,2919.9999999900683]
["14:00:00","002325,94",0.17999999999983629,1079.9999999990177,"000707,48",5.0000000000068212E-2,300.00000000040927,"011358,66",0.23999999999978172,959.99999999912689,"020906,60",9.9999999998544808E-2,1199.9999999825377,3539.9999999810916]
["15:00:00","002326,16",0.21999999999979991,1319.9999999987995,"000707,51",2.9999999999972715E-2,179.99999999983629,"011358,96",0.2999999999992724,1199.9999999970896,"020906,72",0.12000000000261934,1440.0000000314321,4140.0000000271575]
["16:00:00","002326,35",0.19000000000005457,1140.0000000003274,"000707,54",2.9999999999972715E-2,179.99999999983629,"011359,20",0.24000000000160071,960.00000000640284,"020906,82",9.9999999998544808E-2,1199.9999999825377,3479.9999999891043]
["17:00:00","002326,53",0.18000000000029104,1080.0000000017462,"000707,57",3.0000000000086402E-2,180.00000000051841,"011359,47",0.26999999999861757,1079.9999999944703,"020906,92",9.9999999998544808E-2,1199.9999999825377,3539.9999999792726]
["18:00:00","002326,78",0.25,1500,"000707,60",2.9999999999972715E-2,179.99999999983629,"011359,86",0.39000000000123691,1560.0000000049477,"020907,06",0.1400000000030559,1680.0000000366708,4920.0000000414548]
["19:00:00","002327,09",0.30999999999994543,1859.9999999996726,"000707,65",4.9999999999954525E-2,299.99999999972715,"011360,30",0.43999999999869033,1759.9999999947613,"020907,22",0.15999999999985448,1919.9999999982538,5839.9999999924148]
["20:00:00","002327,31",0.21999999999979991,1319.9999999987995,"000707,68",2.9999999999972715E-2,179.99999999983629,"011360,62",0.32000000000152795,1280.0000000061118,"020907,34",0.11999999999898137,1439.9999999877764,4219.999999992524]
["21:00:00","002327,59",0.28000000000020009,1680.0000000012005,"000707,71",3.0000000000086402E-2,180.00000000051841,"011360,99",0.36999999999898137,1479.9999999959255,"020907,48",0.13999999999941792,1679.9999999930151,5019.9999999906595]
["22:00:00","002327,82",0.23000000000001819,1380.0000000001091,"000707,74",2.9999999999972715E-2,179.99999999983629,"011361,28",0.29000000000087311,1160.0000000034925,"020907,59",0.11000000000058208,1320.0000000069849,4040.0000000104228]
["23:00:00","002328,06",0.23999999999978172,1439.9999999986903,"000707,76",1.999999999998181E-2,119.99999999989086,"011361,57",0.28999999999905413,1159.9999999962165,"020907,70",0.11000000000058208,1320.0000000069849,4040.0000000017826]
[1,"002328,26",0.20000000000027285,1200.0000000016371,"000707,77",9.9999999999909051E-3,59.99999999994543,"011361,80",{"$f":"H29-H27","v":0.51999999999861757},2079.9999999944703,"020907,80",9.9999999998544808E-2,1199.9999999825377,4539.9999999785905]
[null,null,null,{"$f":"SUM(D5:D29)","v":28860.000000002401},null,null,{"$f":"SUM(G5:G29)","v":4559.9999999999454},null,null,{"$f":"SUM(J5:J29)","v":25919.999999990978},null,null,{"$f":"SUM(M5:M29)","v":29039.999999979045},{"$f":"SUM(N5:N29)","v":88379.999999972366}]
["зимняя средняя мощность по фидерам в кВт",null,null,null,null,null,null,null,null,null,null,null,null,{"$f":"N30/24/1000","v":3.6824999999988486}]
["летняя средняя мощность",null,null,null,null,null,null,null,null,null,null,null,null,2.7608333333332955]
["Средняя  мощность за 2013г.",null,null,null,null,null,null,null,null,null,null,null,null,{"$f":"(N31+N32)/2","v":3.221666666666072}]

{"sheet":"расчет зима","index":7,"n_rows":42,"n_cols":7,"rows_kept":42,"cut":false,"hidden":false,"merged":[[1,3,1,4]]}
["Расчет расхода   активной электроэнергии на 18.12.2013"]
["Время","Расход","Расход","1 гр сумма",null,"Сумма","Общая нагрузка по всем фидерам "]
["местное","1 гр.  Сумма ф.924+ф.933(РП-7)","Сумма фидеров 915 и 951 (РП-8)","население на РП3, РП6","ф,924 +ф.933+нас.-сторонники в нас.","Сторонние потребители в населении (от ф.924 и ф.933)","расход ( А )"]
["00:00:00",{"$f":"'зима 2013'!J5+'зима 2013'!M5","v":0},{"$f":"'зима 2013'!D5+'зима 2013'!G5","v":0},null,null,null,{"$f":"B4+C4","v":0}]
["01:00:00",{"$f":"'зима 2013'!J6+'зима 2013'!M6","v":1639.9999999775901},{"$f":"'зима 2013'!D6+'зима 2013'!G6","v":1020.0000000004366},null,null,null,{"$f":"B5+C5","v":2659.9999999780266}]
["02:00:00",{"$f":"'зима 2013'!J7+'зима 2013'!M7","v":1320.0000000142609},{"$f":"'зима 2013'!D7+'зима 2013'!G7","v":1080.000000000382},null,null,null,2400.0000000146429]
["03:00:00",{"$f":"'зима 2013'!J8+'зима 2013'!M8","v":1240.0000000125146},{"$f":"'зима 2013'!D8+'зима 2013'!G8","v":1020.0000000011187},null,null,null,2260.0000000136333]
["04:00:00",{"$f":"'зима 2013'!J9+'зима 2013'!M9","v":1519.9999999967986},{"$f":"'зима 2013'!D9+'зима 2013'!G9","v":1200.0000000002728},null,null,null,2719.9999999970714]
["05:00:00",{"$f":"'зима 2013'!J10+'зима 2013'!M10","v":1319.9999999706051},{"$f":"'зима 2013'!D10+'зима 2013'!G10","v":899.99999999918145},null,null,null,2219.9999999697866]
["06:00:00",{"$f":"'зима 2013'!J11+'зима 2013'!M11","v":1320.0000000215368},{"$f":"'зима 2013'!D11+'зима 2013'!G11","v":1080.0000000010641},null,null,null,2400.0000000226009]
["07:00:00",{"$f":"'зима 2013'!J12+'зима 2013'!M12","v":1759.9999999729334},{"$f":"'зима 2013'!D12+'зима 2013'!G12","v":1139.9999999989632},null,null,null,2899.9999999718966]
["08:00:00",{"$f":"'зима 2013'!J13+'зима 2013'!M13","v":2280.0000000279397},{"$f":"'зима 2013'!D13+'зима 2013'!G13","v":1440.0000000000546},null,null,null,3720.0000000279942]
["09:00:00",{"$f":"'зима 2013'!J14+'зима 2013'!M14","v":2199.9999999825377},{"$f":"'зима 2013'!D14+'зима 2013'!G14","v":1380.0000000001091},null,null,null,3579.9999999826468]
["10:00:00",{"$f":"'зима 2013'!J15+'зима 2013'!M15","v":2639.999999984866},{"$f":"'зима 2013'!D15+'зима 2013'!G15","v":1560.0000000006276},null,null,null,4199.9999999854936]
["11:00:00",{"$f":"'зима 2013'!J16+'зима 2013'!M16","v":2480.0000000104774},{"$f":"'зима 2013'!D16+'зима 2013'!G16","v":1439.9999999986903},null,null,null,3920.0000000091677]
["12:00:00",{"$f":"'зима 2013'!J17+'зима 2013'!M17","v":3480.0000000250293},{"$f":"'зима 2013'!D17+'зима 2013'!G17","v":1679.9999999998363},null,null,null,5160.0000000248656]
["13:00:00",{"$f":"'зима 2013'!J18+'зима 2013'!M18","v":1479.9999999886495},{"$f":"'зима 2013'!D18+'зима 2013'!G18","v":1440.0000000014188},null,null,null,2919.9999999900683]
["14:00:00",{"$f":"'зима 2013'!J19+'зима 2013'!M19","v":2159.9999999816646},{"$f":"'зима 2013'!D19+'зима 2013'!G19","v":1379.999999999427},null,null,null,3539.9999999810916]
["15:00:00",{"$f":"'зима 2013'!J20+'зима 2013'!M20","v":2640.0000000285218},{"$f":"'зима 2013'!D20+'зима 2013'!G20","v":1499.9999999986358},null,null,null,4140.0000000271575]
["16:00:00",{"$f":"'зима 2013'!J21+'зима 2013'!M21","v":2159.9999999889405},{"$f":"'зима 2013'!D21+'зима 2013'!G21","v":1320.0000000001637},null,null,null,3479.9999999891043]
["17:00:00",{"$f":"'зима 2013'!J22+'зима 2013'!M22","v":2279.999999977008},{"$f":"'зима 2013'!D22+'зима 2013'!G22","v":1260.0000000022646},null,null,null,3539.9999999792726]
["18:00:00",{"$f":"'зима 2013'!J23+'зима 2013'!M23","v":3240.0000000416185},{"$f":"'зима 2013'!D23+'зима 2013'!G23","v":1679.9999999998363},null,null,null,4920.0000000414548]
["19:00:00",{"$f":"'зима 2013'!J24+'зима 2013'!M24","v":3679.9999999930151},{"$f":"'зима 2013'!D24+'зима 2013'!G24","v":2159.9999999993997},null,null,null,5839.9999999924148]
["20:00:00",{"$f":"'зима 2013'!J25+'зима 2013'!M25","v":2719.9999999938882},{"$f":"'зима 2013'!D25+'зима 2013'!G25","v":1499.9999999986358},null,null,null,4219.999999992524]
["21:00:00",{"$f":"'зима 2013'!J26+'зима 2013'!M26","v":3159.9999999889405},{"$f":"'зима 2013'!D26+'зима 2013'!G26","v":1860.0000000017189},null,null,null,5019.9999999906595]
["22:00:00",{"$f":"'зима 2013'!J27+'зима 2013'!M27","v":2480.0000000104774},{"$f":"'зима 2013'!D27+'зима 2013'!G27","v":1559.9999999999454},null,null,null,4040.0000000104228]
["23:00:00",{"$f":"'зима 2013'!J28+'зима 2013'!M28","v":2480.0000000032014},{"$f":"'зима 2013'!D28+'зима 2013'!G28","v":1559.9999999985812},null,null,null,4040.0000000017826]
[1,{"$f":"'зима 2013'!J29+'зима 2013'!M29","v":3279.999999977008},{"$f":"'зима 2013'!D29+'зима 2013'!G29","v":1260.0000000015825},null,null,null,4539.9999999785905]
["Итого",{"$f":"SUM(B5:B28)","v":54959.999999970023},{"$f":"SUM(C5:C28)","v":33420.00000000235},null,null,null,88379.99999997238]
["Мощность",null,null,null,null,null,{"$f":"G29/24/1000","v":3.682499999998849}]
["1 группа   -р.п.Кольцово"]
["2 группа - промзона "]
["Лимитируемое потребление: не выделяется . Учет не принят"]
["КС = 19702340 + ( 2 х А лимит.расх. ) ="]
[]
[]
["    Главный инженер МУЭП \"Промтехэнерго\"                                         А.А.Попельницкий"]
[]
[]
[]
["   Исп.Мищерякова О.Э."]
["   тел.306-38-50"]

{"sheet":"Лист1","index":8,"n_rows":33,"n_cols":14,"rows_kept":33,"cut":false,"hidden":false,"merged":[]}
["Почасовые контрольные замеры эл.эн.( активной  )18.12.2013г."]
[]
["Время ","Ф-10-915","Ктр.",6000,"Ф-10-951","Ктр.",6000,"Ф-10-924","Ктр.",4000,"Ф-10-933","Ктр.",12000,"Общая нагрузка по всем фидерам "]
["местное","показание","разность","расход","показание","разность","расход","показание","разность","расход","показание","разность","расход"]
["00:00:00","2323,45",null,{"$f":"C5*'зима 2013'!D11","v":0},"000707,01",null,{"$f":"F5*'зима 2013'!G11","v":0},"011355,61",null,{"$f":"I5*4000","v":0},"020905,38",null,{"$f":"L5*4000","v":0},{"$f":"M5+J5+G5+D5","v":0}]
["01:00:00","2323,6198",{"$f":"B6-B5","v":0.16980000000012296},{"$f":"C6*6000","v":1018.8000000007378},"000707,0404",{"$f":"E6-E5","v":3.0399999999985994E-2},{"$f":"F6*6000","v":182.39999999991596},"011355,7914",{"$f":"H6-H5","v":0.18139999999948486},{"$f":"I6*4000","v":725.59999999793945},"020905,4572",{"$f":"K6-K5","v":7.7199999999720603E-2},{"$f":"L6*12000","v":926.39999999664724},{"$f":"M6+J6+G6+D6","v":2853.1999999952404}]
["02:00:00","2323,7682",{"$f":"B7-B6","v":0.14840000000003783},{"$f":"C7*6000","v":890.40000000022701},"000707,0706",{"$f":"E7-E6","v":3.0200000000036198E-2},{"$f":"F7*6000","v":181.20000000021719},"011355,9418",{"$f":"H7-H6","v":0.15040000000044529},{"$f":"I7*4000","v":601.60000000178115},"020905,5226",{"$f":"K7-K6","v":6.5399999999499414E-2},{"$f":"L7*12000","v":784.79999999399297},2457.9999999962183]
["03:00:00","2323,9066",0.13839999999981956,830.39999999891734,"000707,101",3.0399999999985994E-2,182.39999999991596,"011356,0798",0.13799999999901047,551.99999999604188,"020905,583",6.039999999848078E-2,724.79999998176936,2289.5999999766445]
["04:00:00","2324,04",0.13340000000016516,800.40000000099099,"000707,1314",3.0399999999985994E-2,182.39999999991596,"011356,2138",0.13400000000001455,536.00000000005821,"020905,6418",5.8800000002520392E-2,705.6000000302447,2224.4000000312099]
["05:00:00","2324,1738",0.13380000000006476,802.80000000038854,"000707,1614",2.9999999999972715E-2,179.99999999983629,"011356,3498",0.13600000000042201,544.00000000168802,"020905,7002",5.8399999998073326E-2,700.79999997687992,2227.5999999787928]
["06:00:00","2324,3086",0.13479999999981374,808.79999999888241,"000707,1912",2.9800000000022919E-2,178.80000000013752,"011356,5048",0.15500000000065484,620.00000000261934,"020905,7606",6.0400000002118759E-2,724.80000002542511,2332.4000000270644]
["07:00:00","2324,4596",0.15100000000029468,906.00000000176806,"000707,2218",3.0600000000049477E-2,183.60000000029686,"011356,7034",0.19859999999971478,794.39999999885913,"020905,836",7.5399999997898703E-2,904.79999997478444,2788.7999999757085]
["08:00:00","2324,6514",0.19180000000005748,1150.8000000003449,"000707,2528",3.0999999999949068E-2,185.99999999969441,"011356,9648",{"$f":"H13-H12","v":0.2613999999994121},1045.5999999976484,"020905,9342",9.8200000000360887E-2,1178.4000000043306,3560.8000000020184]
["09:00:00","2324,8582",0.20679999999993015,1240.7999999995809,"000707,289",3.6200000000008004E-2,217.20000000004802,"011357,236",0.27120000000104483,1084.8000000041793,"020906,0416",0.10740000000077998,1288.8000000093598,3831.600000013168]
["10:00:00","2325,076",0.21779999999989741,1306.7999999993845,"000707,3218",3.2800000000065666E-2,196.80000000039399,"011357,5272",0.2911999999996624,1164.7999999986496,"020906,1514",0.10979999999835854,1317.5999999803025,3985.9999999787306]
["11:00:00","2325,3",0.22400000000016007,1344.0000000009604,"000707,3474",2.5599999999940337E-2,153.59999999964202,"011357,8198",0.29259999999885622,1170.3999999954249,"020906,2628",0.11140000000159489,1336.8000000191387,4004.800000015166]
["12:00:00","2325,515",0.21499999999969077,1289.9999999981446,"000707,3786",3.1200000000012551E-2,187.20000000007531,"011358,1034",0.28360000000066066,1134.4000000026426,"020906,3742",0.11139999999795691,1336.7999999754829,3948.3999999763455]
["13:00:00","2325,7188",0.20380000000022847,1222.8000000013708,"000707,426",4.7400000000038744E-2,284.40000000023247,"011358,3848",0.28139999999984866,1125.5999999993946,"020906,4818",0.10760000000300352,1291.2000000360422,3924.0000000370401]
["14:00:00","2325,9196",0.20080000000007203,1204.8000000004322,"000707,4838",5.7799999999929241E-2,346.79999999957545,"011358,654",0.26920000000063737,1076.8000000025495,"020906,5872",0.10540000000037253,1264.8000000044703,3893.2000000070275]
["15:00:00","2326,1152",0.1956000000000131,1173.6000000000786,"000707,5112",2.7400000000056934E-2,164.40000000034161,"011358,9102",0.25619999999980791,1024.7999999992317,"020906,692",0.10479999999733991,1257.5999999680789,3620.3999999677308]
["16:00:00","2326,3142",0.19899999999961437,1193.9999999976862,"000707,5432",3.1999999999925421E-2,191.99999999955253,"011359,1674",0.25720000000001164,1028.8000000000466,"020906,801",0.10900000000037835,1308.0000000045402,3722.8000000018255]
["17:00:00","2326,5176",0.20340000000032887,1220.4000000019732,"000707,5708",2.760000000000673E-2,165.60000000004038,"011359,465",0.29759999999987485,1190.3999999994994,"020906,916",0.11500000000160071,1380.0000000192085,3956.4000000207216]
["18:00:00","2326,7426",0.22499999999990905,1349.9999999994543,"000707,5982",2.7400000000056934E-2,164.40000000034161,"011359,8202",0.35519999999996799,1420.7999999998719,"020907,04",0.12399999999979627,1487.9999999975553,4423.1999999972231]
["19:00:00","2326,997",0.254399999999805,1526.39999999883,"000707,6274",2.9199999999946158E-2,175.19999999967695,"011360,2024",0.38220000000001164,1528.8000000000466,"020907,1744",0.13439999999900465,1612.7999999880558,4843.1999999866093]
["20:00:00","2327,264",0.26700000000028012,1602.0000000016807,"000707,6516",2.4200000000064392E-2,145.20000000038635,"011360,5726",0.37019999999938591,1480.7999999975436,"020907,3138",0.13940000000002328,1672.8000000002794,4900.7999999998901]
["21:00:00","2327,5308",0.26679999999987558,1600.7999999992535,"000707,6824",3.0799999999999272E-2,184.79999999999563,"011360,9346",0.36200000000098953,1448.0000000039581,"020907,45",0.13620000000082655,1634.4000000099186,4868.0000000131258]
["22:00:00","2327,7934",0.26260000000002037,1575.6000000001222,"000707,7114",2.8999999999996362E-2,173.99999999997817,"011361,2704",0.33579999999892607,1343.1999999957043,"020907,5784",0.12839999999778229,1540.7999999733875,4633.5999999691921]
["23:00:00","2328,0292",0.23579999999992651,1414.7999999995591,"000707,739",2.760000000000673E-2,165.60000000004038,"011361,5542",0.2838000000010652,1135.2000000042608,"020907,6906",0.11220000000321306,1346.4000000385568,4062.000000042417]
[1,"2328,2318",0.20260000000007494,1215.6000000004497,"000707,7664",2.7399999999943248E-2,164.39999999965949,"011361,7796",{"$f":"H29-H28","v":0.22539999999935389},901.59999999741558,"020907,7814",9.0799999998125713E-2,1089.5999999775086,3371.1999999750333]
[null,null,null,{"$f":"SUM(D5:D29)","v":28690.800000001218},null,null,{"$f":"SUM(G5:G29)","v":4538.3999999999105},null,null,{"$f":"SUM(J5:J29)","v":24678.399999997055},null,null,{"$f":"SUM(M5:M29)","v":28816.79999998596},{"$f":"SUM(N5:N29)","v":86724.399999984133}]
["зимняя средняя мощность по фидерам в кВт",null,null,null,null,null,null,null,null,null,null,null,null,{"$f":"N30/24/1000","v":3.6135166666660057}]
["летняя средняя мощность",null,null,null,null,null,null,null,null,null,null,null,null,2.7610000000000001]
["Средняя  мощность за 2013г.",null,null,null,null,null,null,null,null,null,null,null,null,{"$f":"(N31+N32)/2","v":3.1872583333330029}]